BEGIN:VCALENDAR
VERSION:2.0
PRODID:ics.py 0.8.0-dev0 - http://git.io/lLljaA
BEGIN:VTIMEZONE
TZID:/ics.py/2020.1/Europe/Berlin
BEGIN:DAYLIGHT
TZOFFSETFROM:+0100
TZOFFSETTO:+0200
DTSTART:19700329T020000
RRULE:FREQ=YEARLY;BYMONTH=3;BYDAY=-1SU
RDATE:19700329T020000
TZNAME:CEST
END:DAYLIGHT
BEGIN:STANDARD
TZOFFSETFROM:+0200
TZOFFSETTO:+0100
DTSTART:19701025T030000
RRULE:FREQ=YEARLY;BYMONTH=10;BYDAY=-1SU
RDATE:19701025T030000
TZNAME:CET
END:STANDARD
LAST-MODIFIED:20200620T153818Z
X-LIC-LOCATION:Europe/Berlin
END:VTIMEZONE
BEGIN:VEVENT
DTSTART;TZID=/ics.py/2020.1/Europe/Berlin:20210323T193000
DTEND;TZID=/ics.py/2020.1/Europe/Berlin:20210323T203000
SUMMARY:CERT@VDE: 2. virtueller Normungsstammtisch der Next Generation DKE
UID:bed1a213-c3cf-43f9-9440-773511702fb6@bed1.org
DESCRIPTION:Type: On location\n\n\nCybersecurity und Normung: Ein Rennen 
 zwischen Hase und Igel?Nach einem erfolgreichen Start unseres virtuellen 
 Normungsstammtisches im Februar\, konnten wir für die zweite Runde die DKE
  Experten Andreas Harner\, Abteilungsleiter CERT@VDE und Christian 
 Seipel\, Normungsexperte Cybersecurity\, gewinnen!Unter dem Motto des 
 Abends „Cybersecurity und Normung: Ein Rennen zwischen Hase und Igel?“ 
 werden wir uns mit den Zielen und Herausforderungen der Normung im Bereich
  der Cybersecurity auseinandersetzen. Dabei kommen wir unter anderem auf 
 die Entwicklungsgeschichte der Cybersecurity in der Normung zu sprechen 
 und werden einige spannende Einblicke in die Cybersecurity-Anforderungen 
 im Zusammenhang mit kritischen Infrastrukturen erhalten.Im Anschluss 
 besteht wieder genügend Zeit für Fragen und zum gegenseitigen Austausch.
LOCATION:
DTSTAMP:20260423T132157Z
END:VEVENT
END:VCALENDAR