BEGIN:VCALENDAR
VERSION:2.0
PRODID:ics.py 0.8.0-dev0 - http://git.io/lLljaA
BEGIN:VTIMEZONE
TZID:/ics.py/2020.1/Europe/Berlin
BEGIN:DAYLIGHT
TZOFFSETFROM:+0100
TZOFFSETTO:+0200
DTSTART:19700329T020000
RRULE:FREQ=YEARLY;BYMONTH=3;BYDAY=-1SU
RDATE:19700329T020000
TZNAME:CEST
END:DAYLIGHT
BEGIN:STANDARD
TZOFFSETFROM:+0200
TZOFFSETTO:+0100
DTSTART:19701025T030000
RRULE:FREQ=YEARLY;BYMONTH=10;BYDAY=-1SU
RDATE:19701025T030000
TZNAME:CET
END:STANDARD
LAST-MODIFIED:20200620T153818Z
X-LIC-LOCATION:Europe/Berlin
END:VTIMEZONE
BEGIN:VEVENT
DTSTART;TZID=/ics.py/2020.1/Europe/Berlin:20231128T090000
DTEND;TZID=/ics.py/2020.1/Europe/Berlin:20231128T163000
SUMMARY:CERT@VDE: 8. CYBICS 2023
UID:db4041a5-b155-4f5d-af0d-0a6e1a5fa38d@db40.org
DESCRIPTION:Type: On location\n\n\nAm 28. November 2023 treffen sich in 
 Frankfurt wieder Teilnehmende und Referenten\, um einen umfassenden 
 Überblick über die Compliance-Vorgaben des neuen EU Cyber Resilience Act 
 zu erhalten. Da wir ebenfalls einen Vortrag platzieren werden\, würden wir
  uns freuen Sie auf der CYBICS zu treffen
LOCATION:House of Logistics and Mobility (HOLM)Bessie-Coleman-Straße 760549
  Frankfurt am Main
DTSTAMP:20260423T143548Z
END:VEVENT
END:VCALENDAR