BEGIN:VCALENDAR
VERSION:2.0
PRODID:ics.py 0.8.0-dev0 - http://git.io/lLljaA
BEGIN:VTIMEZONE
TZID:/ics.py/2020.1/Europe/Berlin
BEGIN:DAYLIGHT
TZOFFSETFROM:+0100
TZOFFSETTO:+0200
DTSTART:19700329T020000
RRULE:FREQ=YEARLY;BYMONTH=3;BYDAY=-1SU
RDATE:19700329T020000
TZNAME:CEST
END:DAYLIGHT
BEGIN:STANDARD
TZOFFSETFROM:+0200
TZOFFSETTO:+0100
DTSTART:19701025T030000
RRULE:FREQ=YEARLY;BYMONTH=10;BYDAY=-1SU
RDATE:19701025T030000
TZNAME:CET
END:STANDARD
LAST-MODIFIED:20200620T153818Z
X-LIC-LOCATION:Europe/Berlin
END:VTIMEZONE
BEGIN:VEVENT
DTSTART;TZID=/ics.py/2020.1/Europe/Berlin:20220428T110000
DTEND;TZID=/ics.py/2020.1/Europe/Berlin:20220428T114500
SUMMARY:CERT@VDE: Awareness – Erfolgreiche Mitarbeitersensibilisierung für 
 Cybersecurity
UID:5fbcbc1b-9b06-4219-a140-8c264d0ed9d6@5fbc.org
DESCRIPTION:Type: On location\n\n\nIm täglichen Umgang mit Informationen 
 und IT-Systemen spielt das richtige Sicherheitsbewusstsein eine 
 entscheidende Rolle\, um die Cybersecurity zu gewährleisten. Beschäftigten
  in allen Positionen und allen Abteilungen muss ein angemessenes 
 Problemverständnis für Cyber-Sicherheit vermittelt werden.
LOCATION:Webinar
DTSTAMP:20260423T144141Z
END:VEVENT
END:VCALENDAR