BEGIN:VCALENDAR
VERSION:2.0
PRODID:ics.py 0.8.0-dev0 - http://git.io/lLljaA
BEGIN:VTIMEZONE
TZID:/ics.py/2020.1/Europe/Berlin
BEGIN:DAYLIGHT
TZOFFSETFROM:+0100
TZOFFSETTO:+0200
DTSTART:19700329T020000
RRULE:FREQ=YEARLY;BYMONTH=3;BYDAY=-1SU
RDATE:19700329T020000
TZNAME:CEST
END:DAYLIGHT
BEGIN:STANDARD
TZOFFSETFROM:+0200
TZOFFSETTO:+0100
DTSTART:19701025T030000
RRULE:FREQ=YEARLY;BYMONTH=10;BYDAY=-1SU
RDATE:19701025T030000
TZNAME:CET
END:STANDARD
LAST-MODIFIED:20200620T153818Z
X-LIC-LOCATION:Europe/Berlin
END:VTIMEZONE
BEGIN:VEVENT
DTSTART;TZID=/ics.py/2020.1/Europe/Berlin:20240228T140000
DTEND;TZID=/ics.py/2020.1/Europe/Berlin:20240228T160000
SUMMARY:CERT@VDE: COOL - Kompakte OSADL-Online-Vorlesungen Februar 2024
UID:d8b34d52-4cbc-4b15-821f-bd5de7e1bd99@d8b3.org
DESCRIPTION:Type: On location\n\n\nCOOL findet regelmäßig einmal im Monat 
 statt und behandelt neue und aktuelle Themen zu Open-Source-Software in 
 der Industrie\, entweder zu rechtlichen oder zu technischen Aspekten.
LOCATION:Online
DTSTAMP:20260423T144324Z
END:VEVENT
END:VCALENDAR