BEGIN:VCALENDAR
VERSION:2.0
PRODID:ics.py 0.8.0-dev0 - http://git.io/lLljaA
BEGIN:VTIMEZONE
TZID:/ics.py/2020.1/Europe/Berlin
BEGIN:DAYLIGHT
TZOFFSETFROM:+0100
TZOFFSETTO:+0200
DTSTART:19700329T020000
RRULE:FREQ=YEARLY;BYMONTH=3;BYDAY=-1SU
RDATE:19700329T020000
TZNAME:CEST
END:DAYLIGHT
BEGIN:STANDARD
TZOFFSETFROM:+0200
TZOFFSETTO:+0100
DTSTART:19701025T030000
RRULE:FREQ=YEARLY;BYMONTH=10;BYDAY=-1SU
RDATE:19701025T030000
TZNAME:CET
END:STANDARD
LAST-MODIFIED:20200620T153818Z
X-LIC-LOCATION:Europe/Berlin
END:VTIMEZONE
BEGIN:VEVENT
DTSTART;TZID=/ics.py/2020.1/Europe/Berlin:20210930T150000
DTEND;TZID=/ics.py/2020.1/Europe/Berlin:20210930T200000
SUMMARY:CERT@VDE: Digital sicher aufgestellt – Cybersicherheit für KMU
UID:b0f76949-c315-4545-ae54-4ff51b3725a4@b0f7.org
DESCRIPTION:Type: On location\n\n\nAuf unserer Veranstaltung kommen Akteure
  aus der Bremer Region mit Cybersecurity-Experten zusammen. Sie haben die 
 Möglichkeit\, sich in kurzen Impulsvorträgen aus der Sicht von Unternehmen
  und Behörden über die aktuelle Bedrohungslage und die rechtlichen 
 Grundlagen zu informieren.Cybersecurity betrifft alle – auch den 
 Mittelstand. Die Zahl der Attacken steigt und gerade bei kleinen und 
 mittleren Unternehmen (KMU) fehlen oft die Kapazitäten für 
 Gegenmaßnahmen.Wie können sich KMU wehren\, was können sie konkret gegen 
 einen Angriff tun?Eine erste Anlaufstelle bietet unsere Veranstaltung 
 „Digital sicher aufgestellt – Cybersicherheit für KMU“\, die am 30. 
 September 2021 von 15-18 Uhr im BIBA (Hochschulring 20\, 28359 Bremen) 
 stattfindet.InhalteAuf unserer Veranstaltung kommen Akteure aus der Bremer
  Region mit Cybersecurity-Experten zusammen. Sie haben die Möglichkeit\, 
 sich in kurzen Impulsvorträgen aus der Sicht von Unternehmen und Behörden 
 über die aktuelle Bedrohungslage und die rechtlichen Grundlagen zu 
 informieren. Anschließend erarbeiten Sie in einem interaktiven Austausch 
 mit anderen Unternehmer:innen im World Café Lösungen und Maßnahmen für Ihr
  Unternehmen.Ablauf15:00 Uhr | BegrüßungProf. Dr.-Ing. Michael Freitag\, 
 BIBA – Bremer Institut für Produktion und Logistik GmbHAndreas Köhler\, 
 Handelskammer Bremen – IHK für Bremen und BremerhavenAlexander Seelig\, 
 Mittelstand 4.0-Kompetenzzentrum Bremen15:15 Uhr | 
 ImpulsvorträgeDigitalisierung im Unternehmen: Aktuelle Herausforderungen 
 für Cybersecurity-Compliance\, Prof. Dr. Dennis-Kenji Kipker\, Hochschule 
 Bremen und CERT@VDECybersecurity aus Prozesssicht – ein Bericht aus der 
 Praxis\, Philip Keil\, HEC GmbHWer jagt die Bösen und schützt die 
 Wirtschaftenden?\, Markus Böger\, Verfassungsschutz Niedersachsen16:00 Uhr
  | Workshop: World CaféSchwerpunktthemen: Gesetz\, Praxis\, 
 WirtschaftsschutzPräsentation der Ergebnisse17:15 Uhr | Get-together18:00 
 Uhr | Ende der VeranstaltungAlle Details finden Sie auch in unserem 
 Programmflyer.Unsere ZielgruppeDiese Veranstaltung richtet sich an 
 Personen aus kleinen und mittleren Unternehmen (KMU)\, die sich über das 
 Thema IT-Sicherheit informieren und Ansätze für ihr eigenes Unternehmen 
 finden möchten.Anmeldung und TeilnahmeDie Teilnahme an der Veranstaltung 
 ist für Sie kostenfrei. Als Voraussetzung für die Teilnahme an der 
 Präsenzveranstaltung gilt die 3G-Regel: geimpft\, genesen\, 
 getestet.Weitere Informationen können Sie hier abrufen .Unsere PartnerDie 
 Veranstaltung wird vom Mittelstand 4.0-Kompetenzzentrum Bremen in 
 Kooperation mit der Handelskammer Bremen \, dem BIBA – Bremer Institut für
  Produktion und Logistik \, der Hochschule Bremen sowie den Verbänden 
 CERT@VDE\, IFIT e.V. und TISiM ausgerichtet. Als Programmergänzung wird 
 das TISiM-Mobil vor Ort sein\, um die Besucher über die Nutzung der TISiM-
 Leistungen zu informieren.Haben wir Ihr Interesse geweckt? Melden Sie sich
  gerne unten an\, wir freuen uns auf Sie!Ihr Team vom Mittelstand 
 4.0-Kompetenzzentrum Bremen
LOCATION:BIBA – Bremer Institut für Produktion und Logistik GmbH\, 
 Hochschulring 20\, 28335 Bremen
DTSTAMP:20260423T104334Z
END:VEVENT
END:VCALENDAR