BEGIN:VCALENDAR
VERSION:2.0
PRODID:ics.py 0.8.0-dev0 - http://git.io/lLljaA
BEGIN:VTIMEZONE
TZID:/ics.py/2020.1/Europe/Berlin
BEGIN:DAYLIGHT
TZOFFSETFROM:+0100
TZOFFSETTO:+0200
DTSTART:19700329T020000
RRULE:FREQ=YEARLY;BYMONTH=3;BYDAY=-1SU
RDATE:19700329T020000
TZNAME:CEST
END:DAYLIGHT
BEGIN:STANDARD
TZOFFSETFROM:+0200
TZOFFSETTO:+0100
DTSTART:19701025T030000
RRULE:FREQ=YEARLY;BYMONTH=10;BYDAY=-1SU
RDATE:19701025T030000
TZNAME:CET
END:STANDARD
LAST-MODIFIED:20200620T153818Z
X-LIC-LOCATION:Europe/Berlin
END:VTIMEZONE
BEGIN:VEVENT
DTSTART;TZID=/ics.py/2020.1/Europe/Berlin:20220315T000000
DTEND;TZID=/ics.py/2020.1/Europe/Berlin:20220316T000000
SUMMARY:CERT@VDE: IT-SA 365: IT SECURITY TALKS
UID:a980d6b0-a2f2-4310-97f4-c1a7660fcba1@a980.org
DESCRIPTION:Type: On location\n\n\nPer Stream präsentierten die Experten 
 der teilnehmenden Anbieter Produkte und Lösungen rund um die Themen Cloud-
 Management\, Mobile- und Cybersecurity sowie Daten- und 
 Netzwerksicherheit\, zeigen Visionen auf und informieren Sie über 
 Innovationen. Die IT-Sicherheitsspezialisten stehen Ihnen zudem mit 
 individuellen Beratungen zur Seite. Weitere Informationen zur 
 Veranstaltung finden Sie hier.
LOCATION:Webinar
DTSTAMP:20260423T122056Z
END:VEVENT
END:VCALENDAR