BEGIN:VCALENDAR
VERSION:2.0
PRODID:ics.py 0.8.0-dev0 - http://git.io/lLljaA
BEGIN:VTIMEZONE
TZID:/ics.py/2020.1/Europe/Berlin
BEGIN:DAYLIGHT
TZOFFSETFROM:+0100
TZOFFSETTO:+0200
DTSTART:19700329T020000
RRULE:FREQ=YEARLY;BYMONTH=3;BYDAY=-1SU
RDATE:19700329T020000
TZNAME:CEST
END:DAYLIGHT
BEGIN:STANDARD
TZOFFSETFROM:+0200
TZOFFSETTO:+0100
DTSTART:19701025T030000
RRULE:FREQ=YEARLY;BYMONTH=10;BYDAY=-1SU
RDATE:19701025T030000
TZNAME:CET
END:STANDARD
LAST-MODIFIED:20200620T153818Z
X-LIC-LOCATION:Europe/Berlin
END:VTIMEZONE
BEGIN:VEVENT
DTSTART;TZID=/ics.py/2020.1/Europe/Berlin:20211027T094500
DTEND;TZID=/ics.py/2020.1/Europe/Berlin:20211027T170000
SUMMARY:CERT@VDE: IT-Sicherheit in der Produktion - Einblicke für das 
 Management
UID:18a7946f-d9de-4a2e-9085-6900d41ba53a@18a7.org
DESCRIPTION:Type: On location\n\n\n&quot\;Die IT-Sicherheit von Maschinen 
 und Produktionsanlagen gerät z.B. durch Angriffe auf Produktionsanlagen 
 immer mehr in den Fokus. Essenziell erscheint es\, frühzeitig 
 Sicherheitsstrategien zu entwickeln\, damit ein mögliches ‚Worst-Case-
 Szenario‘ ausbleibt. Dabei zeigt sich deutlich: Management und 
 Führungskräfte haben eine zentrale Rolle\, wenn es darum geht\, das 
 Unternehmen widerstandsfähig gegenüber Angriffen auf IT und OT zu 
 machen.Für die Entwicklung solcher Strategien ist praxisorientiertes 
 Wissen und der Austausch mit erfahrenen Anwendern hilfreich\, um den 
 individuellen Weg zum Schutz der eigenen betrieblichen IT/OT-Infrastruktur
  in der Produktion zu finden. Dieses Wissen kann ebenfalls helfen\, um 
 sich einen Wettbewerbsvorsprung aufzubauen\, up-to-date zu bleiben und die
  Komplexität eines hochsensiblen Themas für alle Akteure etwas 
 aufzulösen.Bei unserer Kooperationsveranstaltung zusammen mit dem 
 Bundesverband IT-Sicherheit e.V. (TeleTrusT) geben wir den Teilnehmenden 
 die Möglichkeit\, vom Wissen der Referenten zu profitieren\, mit den 
 ausgewiesenen Experten exklusiv ins Gespräch zu kommen und Kontakte zu 
 anderen Anwendern zu knüpfen. Durch praxisnahe Beispiele und die 
 Betrachtung des Themas der ‚IT-Sicherheit in der Produktion‘ aus 
 verschiedenen Blickwinkeln erhalten Sie als Führungskraft und 
 Projektverantwortlicher wichtige Impulse für die Umsetzung in Ihrem 
 Unternehmen.Vertreten sind neben dem Gastgeber Hermos AG\, der Technische 
 Hochschule Deggendorf und dem VDE auch Referenten der Firmen MB connect 
 line GmbH\, Secunet Security Networks AG\, Secuvera GmbH\, PrimeKey Labs 
 GmbH sowie Achtwerk GmbH &amp\; Co. KG.&quot\; - QuelleVeranstaltungsseite
  und Anmeldung
LOCATION:Hermos AG\, Gartenstraße 19\, 95490 Mistelgau
DTSTAMP:20260423T132013Z
END:VEVENT
END:VCALENDAR