BEGIN:VCALENDAR
VERSION:2.0
PRODID:ics.py 0.8.0-dev0 - http://git.io/lLljaA
BEGIN:VTIMEZONE
TZID:/ics.py/2020.1/Europe/Berlin
BEGIN:DAYLIGHT
TZOFFSETFROM:+0100
TZOFFSETTO:+0200
DTSTART:19700329T020000
RRULE:FREQ=YEARLY;BYMONTH=3;BYDAY=-1SU
RDATE:19700329T020000
TZNAME:CEST
END:DAYLIGHT
BEGIN:STANDARD
TZOFFSETFROM:+0200
TZOFFSETTO:+0100
DTSTART:19701025T030000
RRULE:FREQ=YEARLY;BYMONTH=10;BYDAY=-1SU
RDATE:19701025T030000
TZNAME:CET
END:STANDARD
LAST-MODIFIED:20200620T153818Z
X-LIC-LOCATION:Europe/Berlin
END:VTIMEZONE
BEGIN:VEVENT
DTSTART;TZID=/ics.py/2020.1/Europe/Berlin:20210305T100000
DTEND;TZID=/ics.py/2020.1/Europe/Berlin:20210305T110000
SUMMARY:CERT@VDE: Live-Interview: Nachhaltige Industrial Security durch ein
  proaktives CERT?
UID:eb2906c7-5c4e-4e94-a6c9-52802c88098c@eb29.org
DESCRIPTION:Type: On location\n\n\nDie wachsende Bedrohungslage erfordert 
 wirkungsvolle Strategien für den Umgang mit Cyberangriffen. Wie schaffen 
 es kleine und mittlere Unternehmen mit beschränkten Ressourcen\, den 
 wachsenden Anforderungen gerecht zu werden und ihre IT-Infrastruktur in 
 vernetzten Anlagen entsprechend abzusichern?Andreas Harner vom CERT@VDE 
 spricht mit uns am 05.03.21 über den Mehrwert\, den ein 
 unternehmensübergreifendes CERT (Computer Emergency Response Team) 
 bringt\, welche Hürden es zu nehmen gilt und wie ein Einstieg mit 
 praktikablen ersten Schritten gelingt.Themenschwerpunkte:Was ist ein CERT 
 und wie funktioniert es in Industrieunternehmen?Warum eigentlich CERT und 
 Sichere Industrie?Welche Mehrwerte liefert ein CERT (oder doch nur 
 Kostenstelle) für das eigene Sicherheitsniveau?Welche Voraussetzungen und 
 vor allem welche Hürden gibt es für die Einführung eines CERT?Die ersten 
 Schritte – Gibt es einen leichtgewichtigen CERT-Ansatz? (TOP-3 
 Praxistipps)Anmeldung   
LOCATION:
DTSTAMP:20260423T123508Z
END:VEVENT
END:VCALENDAR