BEGIN:VCALENDAR
VERSION:2.0
PRODID:ics.py 0.8.0-dev0 - http://git.io/lLljaA
BEGIN:VTIMEZONE
TZID:/ics.py/2020.1/Europe/Berlin
BEGIN:DAYLIGHT
TZOFFSETFROM:+0100
TZOFFSETTO:+0200
DTSTART:19700329T020000
RRULE:FREQ=YEARLY;BYMONTH=3;BYDAY=-1SU
RDATE:19700329T020000
TZNAME:CEST
END:DAYLIGHT
BEGIN:STANDARD
TZOFFSETFROM:+0200
TZOFFSETTO:+0100
DTSTART:19701025T030000
RRULE:FREQ=YEARLY;BYMONTH=10;BYDAY=-1SU
RDATE:19701025T030000
TZNAME:CET
END:STANDARD
LAST-MODIFIED:20200620T153818Z
X-LIC-LOCATION:Europe/Berlin
END:VTIMEZONE
BEGIN:VEVENT
DTSTART;TZID=/ics.py/2020.1/Europe/Berlin:20230510T000000
DTEND;TZID=/ics.py/2020.1/Europe/Berlin:20230511T000000
SUMMARY:CERT@VDE: Security unter Kontrolle
UID:547886ed-c82a-4a9a-b6f8-76f46bbea992@5478.org
DESCRIPTION:Type: On location\n\n\nSECURITY UNTER KONTROLLE ist der neue 
 dialog- und praxisorientierte Kongress für alle\, die sich mit Security in
  der Industrie beschäftigen. Security? Bekommen wir unter Kontrolle!Um 
 Security für Automatisierungstechnik müssten Sie sich mal kümmern – wenn 
 Sie bloß wüssten\, wie genau? Das ist das Ziel von SECURITY UNTER 
 KONTROLLE. Automatisierer\, Ingenieure und Praktiker befähigen\, Security 
 selbst in die Hand zu nehmen.Call for Contributions!Ihr größtes Problem\, 
 Ihre beste Idee oder Ihre lehrreichste Geschichte aus der OT-Security 
 gehören auf unsere Bühne!Reichen Sie Ihren Beitrag hier ein!
LOCATION:Areal Böhler\, Hansaallee 321\, 40549 Düsseldorf
DTSTAMP:20260423T145148Z
END:VEVENT
END:VCALENDAR