BEGIN:VCALENDAR
VERSION:2.0
PRODID:ics.py 0.8.0-dev0 - http://git.io/lLljaA
BEGIN:VTIMEZONE
TZID:/ics.py/2020.1/Europe/Berlin
BEGIN:DAYLIGHT
TZOFFSETFROM:+0100
TZOFFSETTO:+0200
DTSTART:19700329T020000
RRULE:FREQ=YEARLY;BYMONTH=3;BYDAY=-1SU
RDATE:19700329T020000
TZNAME:CEST
END:DAYLIGHT
BEGIN:STANDARD
TZOFFSETFROM:+0200
TZOFFSETTO:+0100
DTSTART:19701025T030000
RRULE:FREQ=YEARLY;BYMONTH=10;BYDAY=-1SU
RDATE:19701025T030000
TZNAME:CET
END:STANDARD
LAST-MODIFIED:20200620T153818Z
X-LIC-LOCATION:Europe/Berlin
END:VTIMEZONE
BEGIN:VEVENT
DTSTART;TZID=/ics.py/2020.1/Europe/Berlin:20230911T093000
DTEND;TZID=/ics.py/2020.1/Europe/Berlin:20230911T200000
SUMMARY:CERT@VDE: SWITCH CERT-Herbst-Veranstaltung
UID:be2c6738-fca7-4301-bc09-659f13af904f@be2c.org
DESCRIPTION:Type: On location\n\n\nDas SWITCH-CERT-Autumn-Event ist die 
 jährliche Veranstaltung für CERT-Kunden aus den verschiedenen Branchen. Es
  erwarten Sie spannende Vorträge und eine einmalige Gelegenheit zum 
 Austausch mit Gleichgesinnten.Da wir ebenfalls einen Vortrag platzieren 
 werden\, würden wir uns sehr freuen Sie auf dem Event zu treffen.
LOCATION:Université de Fribourg\, Bd de Pérolles 90\, 1700 Fribourg
DTSTAMP:20260423T125942Z
END:VEVENT
END:VCALENDAR