BEGIN:VCALENDAR
VERSION:2.0
PRODID:ics.py 0.8.0-dev0 - http://git.io/lLljaA
BEGIN:VTIMEZONE
TZID:/ics.py/2020.1/Europe/Berlin
BEGIN:DAYLIGHT
TZOFFSETFROM:+0100
TZOFFSETTO:+0200
DTSTART:19700329T020000
RRULE:FREQ=YEARLY;BYMONTH=3;BYDAY=-1SU
RDATE:19700329T020000
TZNAME:CEST
END:DAYLIGHT
BEGIN:STANDARD
TZOFFSETFROM:+0200
TZOFFSETTO:+0100
DTSTART:19701025T030000
RRULE:FREQ=YEARLY;BYMONTH=10;BYDAY=-1SU
RDATE:19701025T030000
TZNAME:CET
END:STANDARD
LAST-MODIFIED:20200620T153818Z
X-LIC-LOCATION:Europe/Berlin
END:VTIMEZONE
BEGIN:VEVENT
DTSTART;TZID=/ics.py/2020.1/Europe/Berlin:20230629T173000
DTEND;TZID=/ics.py/2020.1/Europe/Berlin:20230629T210000
SUMMARY:CERT@VDE: VDE Bayern Cyber Security Sundowner 2023
UID:dedb899e-8e2d-4584-b997-41cd92fa6fd0@dedb.org
DESCRIPTION:Type: On location\n\n\nKönnen Sie sich und Ihre Organisation 
 vor Cyberattacken schützen? Gehen Sie mit uns dieser Frage nach und 
 informieren Sie sich beim VDE Bayern Cyber Security Sundowner am 29. Juni 
 2023. Erkennen Sie die Stärken und Schwächen Ihres Systems und vernetzen 
 Sie sich direkt mit den Experten und Akteuren aus der Region. Wir sind zu 
 Gast im Digitalen Gründerzentrum Stellwerk 18 in Rosenheim\, und freuen 
 uns auf das enge Netzwerk aus etablierten Unternehmen\, 
 Wirtschaftsförderung\, Kammern und Hochschulen aus ganz Südostoberbayern 
 und Tirol.Wie können Sie sich und Ihre Organisation effektiver vor 
 Cyberattacken schützen?Beim VDE Bayern Cyber Security Sundowner wollen wir
  uns kritisch mit den Themen IT-Sicherheit\, Datenschutz und Hacking 
 auseinandersetzen. Mit unseren Partnern bilden wir eine ideale Plattform 
 zur Vernetzung regionaler\, nationaler und internationaler Unternehmen und
  Organisationen.Informieren Sie sich zur aktuellen Cyber-Bedrohungslage 
 rund um den Faktor Mensch und wie Sie Ihre Organisation vor 
 menschenbasierten Angriffen schützen können. Nach2022 bringt der VDE 
 Bayern Cyber Security Sundowner 2023 erneut relevante Akteure aus 
 Politik\, Wirtschaft\, Industrie\, Forschung und Wissenschaft zum 
 fachlichen Austausch über die stets wichtiger werdende Cyber Security 
 zusammen.Ihre Teilnahme ist kostenfrei\, Ihre Anmeldung ist aufgrund der 
 begrenzten Plätze jedoch bis 23.06.2023 erforderlich!
LOCATION:Stellwerk 18\, Eduard-Rüber-Straße 7\, 83022 Rosenheim
DTSTAMP:20260423T131817Z
END:VEVENT
END:VCALENDAR