BEGIN:VCALENDAR
VERSION:2.0
PRODID:ics.py 0.8.0-dev0 - http://git.io/lLljaA
BEGIN:VTIMEZONE
TZID:/ics.py/2020.1/Europe/Berlin
BEGIN:DAYLIGHT
TZOFFSETFROM:+0100
TZOFFSETTO:+0200
DTSTART:19700329T020000
RRULE:FREQ=YEARLY;BYMONTH=3;BYDAY=-1SU
RDATE:19700329T020000
TZNAME:CEST
END:DAYLIGHT
BEGIN:STANDARD
TZOFFSETFROM:+0200
TZOFFSETTO:+0100
DTSTART:19701025T030000
RRULE:FREQ=YEARLY;BYMONTH=10;BYDAY=-1SU
RDATE:19701025T030000
TZNAME:CET
END:STANDARD
LAST-MODIFIED:20200620T153818Z
X-LIC-LOCATION:Europe/Berlin
END:VTIMEZONE
BEGIN:VEVENT
DTSTART;TZID=/ics.py/2020.1/Europe/Berlin:20220602T173000
DTEND;TZID=/ics.py/2020.1/Europe/Berlin:20220602T210000
SUMMARY:CERT@VDE: VDE Bayern Cyber Security Sundowner
UID:9158b5c0-4542-45b9-8d67-a08e55de02c8@9158.org
DESCRIPTION:Type: On location\n\n\nKönnen Sie sich und Ihre Organisation 
 vor Cyberattacken schützen? Gehen Sie mit uns dieser Frage nach und 
 informieren Sie sich beim VDE Bayern Cyber Security Sundowner am 2. Juni 
 2022. Erkennen Sie die Stärken und Schwächen Ihres Systems und tauschen 
 Sie sich direkt mit unseren Experten aus. Im neuen Werksviertel-Mitte in 
 München sind wir zu Gast beim WERK1\, dem Hochleistungszentrum für 
 Digital-Startups in der Landeshauptstadt und der innovativen Plattform für
  Unternehmerinnen und Unternehmer.
LOCATION:WERK1\, Atelierstraße 29\, 81671 München
DTSTAMP:20260423T123351Z
END:VEVENT
END:VCALENDAR