BEGIN:VCALENDAR
VERSION:2.0
PRODID:ics.py 0.8.0-dev0 - http://git.io/lLljaA
BEGIN:VTIMEZONE
TZID:/ics.py/2020.1/Europe/Berlin
BEGIN:DAYLIGHT
TZOFFSETFROM:+0100
TZOFFSETTO:+0200
DTSTART:19700329T020000
RRULE:FREQ=YEARLY;BYMONTH=3;BYDAY=-1SU
RDATE:19700329T020000
TZNAME:CEST
END:DAYLIGHT
BEGIN:STANDARD
TZOFFSETFROM:+0200
TZOFFSETTO:+0100
DTSTART:19701025T030000
RRULE:FREQ=YEARLY;BYMONTH=10;BYDAY=-1SU
RDATE:19701025T030000
TZNAME:CET
END:STANDARD
LAST-MODIFIED:20200620T153818Z
X-LIC-LOCATION:Europe/Berlin
END:VTIMEZONE
BEGIN:VEVENT
DTSTART;TZID=/ics.py/2020.1/Europe/Berlin:20210315T080000
DTEND;TZID=/ics.py/2020.1/Europe/Berlin:20210317T170000
SUMMARY:CERT@VDE: VDE DKE Tagung Funktionale Sicherheit 2021
UID:2ea115fd-33bb-4661-9d3b-24fb596e7f93@2ea1.org
DESCRIPTION:Type: On location\n\n\nSicherheitstechnik ist schwerfällig und 
 traditionell – VDE-Kongress beweist das GegenteilDie dritte Ausgabe der 
 IEC 61508-Reihe wird mit Spannung erwartet\, weil es seit der zweiten 
 Ausgabe einige Innovationen gab und sich das Umfeld verändert hat: Nach 
 der Vernetzung\, die immer weiter voranschreitet und weiterhin Gemüter 
 bewegt\, wird über den Einsatz von Technologien der künstlichen 
 Intelligenz und die Anwendung der Blockchain diskutiert. Darüber hinaus 
 werden auch die etablierten Entwicklungsmethoden hinterfragt. Neben den 
 handfesten Fragen zur Normung sollen auch diese Fragen diskutiert und 
 mögliche Lösungen vorgestellt werden:Agile Methoden und sichere Systeme. 
 Ein Widerspruch in sich?Kann das Management der funktionalen Sicherheit 
 künftig durch Block-Chain-Techniken abgesichert werden?Jüngste Erfahrungen
  mit Hacker-Angriffen verlangen eine noch stärkere Koordination der 
 funktionalen Sicherheit mit der IT-Sicherheit.Bei der gesamtheitlichen 
 Betrachtung von Sicherheitsketten und Abschätzung ihrer 
 Ausfallwahrscheinlichkeiten stellen sich mechanische Elemente immer wieder
  als die Punkte heraus\, über die am meisten diskutiert wird. Immer noch 
 sind die Meinungen in der Community\, wie damit umzugehen ist\, recht 
 kontrovers.Die Einbeziehung künstlicher Intelligenz in Sicherheitssysteme 
 scheint für die Zukunft unumgänglich zu sein\, aber noch weiß niemand\, 
 wie hierzu ein Sicherheitsnachweis geführt werden könnte.Funktionale 
 Sicherheit 2021 - Programmheft   
LOCATION:
DTSTAMP:20260423T055221Z
END:VEVENT
END:VCALENDAR