BEGIN:VCALENDAR
VERSION:2.0
PRODID:ics.py 0.8.0-dev0 - http://git.io/lLljaA
BEGIN:VTIMEZONE
TZID:/ics.py/2020.1/Europe/Berlin
BEGIN:DAYLIGHT
TZOFFSETFROM:+0100
TZOFFSETTO:+0200
DTSTART:19700329T020000
RRULE:FREQ=YEARLY;BYMONTH=3;BYDAY=-1SU
RDATE:19700329T020000
TZNAME:CEST
END:DAYLIGHT
BEGIN:STANDARD
TZOFFSETFROM:+0200
TZOFFSETTO:+0100
DTSTART:19701025T030000
RRULE:FREQ=YEARLY;BYMONTH=10;BYDAY=-1SU
RDATE:19701025T030000
TZNAME:CET
END:STANDARD
LAST-MODIFIED:20200620T153818Z
X-LIC-LOCATION:Europe/Berlin
END:VTIMEZONE
BEGIN:VEVENT
DTSTART;TZID=/ics.py/2020.1/Europe/Berlin:20230612T080000
DTEND;TZID=/ics.py/2020.1/Europe/Berlin:20230613T170000
SUMMARY:CERT@VDE: VDE DKE Tagung Industrial Security
UID:23e46958-dac4-49ba-8882-e362a5a1af50@23e4.org
DESCRIPTION:Type: On location\n\n\nIndustrial Security wird zunehmend 
 wichtiger für ein erfolgreiches Industrieunternehmen – die VDE DKE 
 Fachtagung zeigt\, wie es geht!Die aktuellen Krisen der Welt zeigen es 
 sehr deutlich: eine vernetzte und digitalisierte Industrie und 
 Infrastruktur sind anfällig gegenüber Cyber-Attacken. Ein Lösungsansatz 
 ist die Anwendung von internationalen Normen und Standards. Die 
 Normenreihe IEC 62443 beschreibt Sicherheitskonzepte und grundlegende 
 Anforderungen für eine ganzheitliche Betrachtung der Industrial Security. 
 Die Normenreihe ist in den letzten Jahren stark gewachsen und noch immer 
 werden weitere Dokumente erstellt\, um der komplexen Aufgabe gerecht zu 
 werden. Wie sieht der aktuelle Stand aus? Was ist in den nächsten Jahren 
 noch zu erwarten? Diese und weitere Fragen zur Normreihe und deren 
 Anwendung wollen wir mit Ihnen diskutieren:Der Lebenszyklus einer Anlage: 
 Alles eine Aufgabe des Betreibers?Was muss ein Hersteller für die 
 Entwicklung eines sicheren Produktes tun?Sind alle Anforderungen erfüllt? 
 Konformitätsbewertung und ZertifizierungWelche regulatorischen 
 Rahmenbedingungen sind in Zukunft zu erwarten?Diese Themen möchten wir 
 Ihnen vorstellen\, mit Ihnen darüber diskutieren und sind auf Ihre Meinung
  sehr gespannt.Des Weiteren bieten wir Ihnen am 12. Juni verschiedene Deep
  Dives.Wir freuen uns auf Ihre Teilnahme!
LOCATION:Manufaktur Mannheimer Genusswerk\, Industriestraße 35\, 68169 
 Mannheim
DTSTAMP:20260423T103507Z
END:VEVENT
END:VCALENDAR