BEGIN:VCALENDAR
VERSION:2.0
PRODID:ics.py 0.8.0-dev0 - http://git.io/lLljaA
BEGIN:VTIMEZONE
TZID:/ics.py/2020.1/Europe/Berlin
BEGIN:DAYLIGHT
TZOFFSETFROM:+0100
TZOFFSETTO:+0200
DTSTART:19700329T020000
RRULE:FREQ=YEARLY;BYMONTH=3;BYDAY=-1SU
RDATE:19700329T020000
TZNAME:CEST
END:DAYLIGHT
BEGIN:STANDARD
TZOFFSETFROM:+0200
TZOFFSETTO:+0100
DTSTART:19701025T030000
RRULE:FREQ=YEARLY;BYMONTH=10;BYDAY=-1SU
RDATE:19701025T030000
TZNAME:CET
END:STANDARD
LAST-MODIFIED:20200620T153818Z
X-LIC-LOCATION:Europe/Berlin
END:VTIMEZONE
BEGIN:VEVENT
DTSTART;TZID=/ics.py/2020.1/Europe/Berlin:20210323T193000
DTEND;TZID=/ics.py/2020.1/Europe/Berlin:20210323T203000
SUMMARY:CERT@VDE: 2nd virtual standardization round table of the Next 
 Generation DKE
UID:3ff9b597-4ce0-4e22-aa2b-e91f9d943bd6@3ff9.org
DESCRIPTION:Type: On location\n\n\nCybersecurity and standardization: A 
 race between the hare and the hedgehog?After a successful start of our 
 virtual standardization round table in February\, we were able to win the 
 DKE experts Andreas Harner\, head of the CERT@VDE department\, and 
 Christian Seipel\, cybersecurity standardization expert\, for the second 
 round!Lara WeiblenManually translated on 28 February 2024EditUnder the 
 motto of the evening "Cybersecurity and standardization: A race between 
 the hare and the hedgehog?" we will deal with the goals and challenges of 
 standardization in the field of cybersecurity. Among other things\, we 
 will talk about the development history of cybersecurity in 
 standardization and gain some exciting insights into cybersecurity 
 requirements in connection with critical infrastructures.Afterwards\, 
 there will again be enough time for questions and mutual exchange.
LOCATION:
DTSTAMP:20260423T114624Z
END:VEVENT
END:VCALENDAR