BEGIN:VCALENDAR
VERSION:2.0
PRODID:ics.py 0.8.0-dev0 - http://git.io/lLljaA
BEGIN:VTIMEZONE
TZID:/ics.py/2020.1/Europe/Berlin
BEGIN:DAYLIGHT
TZOFFSETFROM:+0100
TZOFFSETTO:+0200
DTSTART:19700329T020000
RRULE:FREQ=YEARLY;BYMONTH=3;BYDAY=-1SU
RDATE:19700329T020000
TZNAME:CEST
END:DAYLIGHT
BEGIN:STANDARD
TZOFFSETFROM:+0200
TZOFFSETTO:+0100
DTSTART:19701025T030000
RRULE:FREQ=YEARLY;BYMONTH=10;BYDAY=-1SU
RDATE:19701025T030000
TZNAME:CET
END:STANDARD
LAST-MODIFIED:20200620T153818Z
X-LIC-LOCATION:Europe/Berlin
END:VTIMEZONE
BEGIN:VEVENT
DTSTART;TZID=/ics.py/2020.1/Europe/Berlin:20241128T090000
DTEND;TZID=/ics.py/2020.1/Europe/Berlin:20241128T163000
SUMMARY:CERT@VDE: 8. CYBICS 2023
UID:75e23eb4-6d11-4ef1-8a27-1101846d09d0@75e2.org
DESCRIPTION:Type: On location\n\n\nOn November 28\, 2023\, participants and
  speakers will meet again in Frankfurt to get a comprehensive overview of 
 the compliance requirements of the new EU Cyber Resilience Act. As we will
  also be giving a presentation\, we would be delighted to meet you at 
 CYBICS
LOCATION:House of Logistics and Mobility (HOLM)\, Bessie-Coleman-Straße 7\,
  60549 Frankfurt am Main
DTSTAMP:20260423T113752Z
END:VEVENT
END:VCALENDAR