BEGIN:VCALENDAR
VERSION:2.0
PRODID:ics.py 0.8.0-dev0 - http://git.io/lLljaA
BEGIN:VTIMEZONE
TZID:/ics.py/2020.1/Europe/Berlin
BEGIN:DAYLIGHT
TZOFFSETFROM:+0100
TZOFFSETTO:+0200
DTSTART:19700329T020000
RRULE:FREQ=YEARLY;BYMONTH=3;BYDAY=-1SU
RDATE:19700329T020000
TZNAME:CEST
END:DAYLIGHT
BEGIN:STANDARD
TZOFFSETFROM:+0200
TZOFFSETTO:+0100
DTSTART:19701025T030000
RRULE:FREQ=YEARLY;BYMONTH=10;BYDAY=-1SU
RDATE:19701025T030000
TZNAME:CET
END:STANDARD
LAST-MODIFIED:20200620T153818Z
X-LIC-LOCATION:Europe/Berlin
END:VTIMEZONE
BEGIN:VEVENT
DTSTART;TZID=/ics.py/2020.1/Europe/Berlin:20220428T110000
DTEND;TZID=/ics.py/2020.1/Europe/Berlin:20220428T114500
SUMMARY:CERT@VDE: Awareness - Successful employee sensitization for 
 cybersecurity
UID:c9f227aa-10a6-4eb6-b380-9d4fd2a5c152@c9f2.org
DESCRIPTION:Type: On location\n\n\nIn the day-to-day handling of 
 information and IT systems\, the right security awareness plays a crucial 
 role in ensuring cybersecurity. Employees in all positions and all 
 departments must be given an appropriate understanding of cyber security 
 issues.
LOCATION:Webinar
DTSTAMP:20260423T113829Z
END:VEVENT
END:VCALENDAR