BEGIN:VCALENDAR
VERSION:2.0
PRODID:ics.py 0.8.0-dev0 - http://git.io/lLljaA
BEGIN:VTIMEZONE
TZID:/ics.py/2020.1/Europe/Berlin
BEGIN:DAYLIGHT
TZOFFSETFROM:+0100
TZOFFSETTO:+0200
DTSTART:19700329T020000
RRULE:FREQ=YEARLY;BYMONTH=3;BYDAY=-1SU
RDATE:19700329T020000
TZNAME:CEST
END:DAYLIGHT
BEGIN:STANDARD
TZOFFSETFROM:+0200
TZOFFSETTO:+0100
DTSTART:19701025T030000
RRULE:FREQ=YEARLY;BYMONTH=10;BYDAY=-1SU
RDATE:19701025T030000
TZNAME:CET
END:STANDARD
LAST-MODIFIED:20200620T153818Z
X-LIC-LOCATION:Europe/Berlin
END:VTIMEZONE
BEGIN:VEVENT
DTSTART;TZID=/ics.py/2020.1/Europe/Berlin:20240228T140000
DTEND;TZID=/ics.py/2020.1/Europe/Berlin:20240228T160000
SUMMARY:CERT@VDE: COOL - Compact OSADL online lectures February 2024
UID:17691368-dd01-441a-9a19-1427e4d70402@1769.org
DESCRIPTION:Type: On location\n\n\nCOOL takes place regularly once a month 
 and deals with new and current topics on open source software in the 
 industry\, either on legal or technical aspects.
LOCATION:Online
DTSTAMP:20260423T134151Z
END:VEVENT
END:VCALENDAR