BEGIN:VCALENDAR
VERSION:2.0
PRODID:ics.py 0.8.0-dev0 - http://git.io/lLljaA
BEGIN:VTIMEZONE
TZID:/ics.py/2020.1/Europe/Berlin
BEGIN:DAYLIGHT
TZOFFSETFROM:+0100
TZOFFSETTO:+0200
DTSTART:19700329T020000
RRULE:FREQ=YEARLY;BYMONTH=3;BYDAY=-1SU
RDATE:19700329T020000
TZNAME:CEST
END:DAYLIGHT
BEGIN:STANDARD
TZOFFSETFROM:+0200
TZOFFSETTO:+0100
DTSTART:19701025T030000
RRULE:FREQ=YEARLY;BYMONTH=10;BYDAY=-1SU
RDATE:19701025T030000
TZNAME:CET
END:STANDARD
LAST-MODIFIED:20200620T153818Z
X-LIC-LOCATION:Europe/Berlin
END:VTIMEZONE
BEGIN:VEVENT
DTSTART;TZID=/ics.py/2020.1/Europe/Berlin:20241017T093000
DTEND;TZID=/ics.py/2020.1/Europe/Berlin:20241018T161000
SUMMARY:CERT@VDE: CySecMed - Cyber security in medical technology
UID:8c6ab846-cf58-403b-bb43-4aac226a7fda@8c6a.org
DESCRIPTION:Type: On location\n\n\nCySecMed is a conference dedicated 
 exclusively to the topic of cyber security in medical technology. Over two
  days\, a specialist audience meets here to discuss the current 
 challenges. As we will also be giving a presentation\, we would be 
 delighted to meet you at CySecMed.
LOCATION:Holiday Inn München-Unterhaching\, Inselkammerstraße 7-9\, 82008 
 Unterhachin
DTSTAMP:20260423T094437Z
END:VEVENT
END:VCALENDAR