BEGIN:VCALENDAR
VERSION:2.0
PRODID:ics.py 0.8.0-dev0 - http://git.io/lLljaA
BEGIN:VTIMEZONE
TZID:/ics.py/2020.1/Europe/Berlin
BEGIN:DAYLIGHT
TZOFFSETFROM:+0100
TZOFFSETTO:+0200
DTSTART:19700329T020000
RRULE:FREQ=YEARLY;BYMONTH=3;BYDAY=-1SU
RDATE:19700329T020000
TZNAME:CEST
END:DAYLIGHT
BEGIN:STANDARD
TZOFFSETFROM:+0200
TZOFFSETTO:+0100
DTSTART:19701025T030000
RRULE:FREQ=YEARLY;BYMONTH=10;BYDAY=-1SU
RDATE:19701025T030000
TZNAME:CET
END:STANDARD
LAST-MODIFIED:20200620T153818Z
X-LIC-LOCATION:Europe/Berlin
END:VTIMEZONE
BEGIN:VEVENT
DTSTART;TZID=/ics.py/2020.1/Europe/Berlin:20210930T150000
DTEND;TZID=/ics.py/2020.1/Europe/Berlin:20210930T200000
SUMMARY:CERT@VDE: Digitally secure - cyber security for SMEs
UID:31c75876-f233-4bc7-9827-c7479d9438ff@31c7.org
DESCRIPTION:Type: On location\n\n\nOur event brings together stakeholders 
 from the Bremen region with cybersecurity experts. You will have the 
 opportunity to find out about the current threat situation and the legal 
 basis in short keynote speeches from the perspective of companies and 
 authorities.Cybersecurity affects everyone - including SMEs. The number of
  attacks is increasing and small and medium-sized enterprises (SMEs) in 
 particular often lack the capacity to take countermeasures.How can SMEs 
 defend themselves\, what can they actually do against an attack?A first 
 point of contact is our event "Digitally secure - cyber security for 
 SMEs"\, which will take place on September 30\, 2021 from 3-6 pm at BIBA 
 (Hochschulring 20\, 28359 Bremen).ContentOur event brings together 
 stakeholders from the Bremen region with cybersecurity experts. You will 
 have the opportunity to find out about the current threat situation and 
 the legal basis in short keynote speeches from the perspective of 
 companies and authorities. You will then develop solutions and measures 
 for your company in an interactive exchange with other entrepreneurs in 
 the World Café.Agenda3:00 p.m. | WelcomeProf. Dr.-Ing. Michael Freitag\, 
 BIBA – Bremer Institut für Produktion und Logistik GmbHAndreas Köhler\, 
 Handelskammer Bremen – IHK für Bremen und BremerhavenAlexander Seelig\, 
 Mittelstand 4.0-Kompetenzzentrum Bremen3:15 p.m. | Keynote 
 speechesDigitalization in the company: Current challenges for 
 cybersecurity compliance\, Prof. Dr. Dennis-Kenji Kipker\, Bremen 
 University of Applied Sciences and CERT@VDECybersecurity from a process 
 perspective - a report from the field\, Philip Keil\, HEC GmbHWho hunts 
 the bad guys and protects the economic ones?\, Markus Böger\, 
 Verfassungsschutz Niedersachsen4:00 p.m. | Workshop: World CaféMain 
 topics: Law\, practice\, economic protectionPresentation of the 
 results5:15 p.m. | Get-together6:00 p.m. | End of the eventYou can also 
 find all the details in our Programflyer.Our target groupThis event is 
 aimed at people from small and medium-sized enterprises (SMEs) who want to
  find out more about IT security and find approaches for their own 
 company.Registration and participationDParticipation in the event is free 
 of charge for you. The 3G rule applies as a prerequisite for participation
  in the face-to-face event: vaccinated\, recovered\, tested.You can call 
 up further information here .Our partnersThe event is organized by the 
 Mittelstand 4.0-Kompetenzzentrum Bremen in cooperation with the Bremen 
 Chamber of Commerce \, the BIBA - Bremen Institute for Production and 
 Logistics \, the Bremen University of Applied Sciences and the 
 associations CERT@VDE\, IFIT e.V. und TISiM organized. As a program 
 supplement\, the TISiM-Mobil will be on site\, to inform visitors about 
 the use of TISiM services.Have we piqued your interest? Please register 
 below\, we look forward to hearing from you!Your team from the Mittelstand
  4.0 Competence Center Bremen
LOCATION:BIBA – Bremer Institut für Produktion und Logistik GmbH\, 
 Hochschulring 20\, 28335 Bremen
DTSTAMP:20260423T113633Z
END:VEVENT
END:VCALENDAR