BEGIN:VCALENDAR
VERSION:2.0
PRODID:ics.py 0.8.0-dev0 - http://git.io/lLljaA
BEGIN:VTIMEZONE
TZID:/ics.py/2020.1/Europe/Berlin
BEGIN:DAYLIGHT
TZOFFSETFROM:+0100
TZOFFSETTO:+0200
DTSTART:19700329T020000
RRULE:FREQ=YEARLY;BYMONTH=3;BYDAY=-1SU
RDATE:19700329T020000
TZNAME:CEST
END:DAYLIGHT
BEGIN:STANDARD
TZOFFSETFROM:+0200
TZOFFSETTO:+0100
DTSTART:19701025T030000
RRULE:FREQ=YEARLY;BYMONTH=10;BYDAY=-1SU
RDATE:19701025T030000
TZNAME:CET
END:STANDARD
LAST-MODIFIED:20200620T153818Z
X-LIC-LOCATION:Europe/Berlin
END:VTIMEZONE
BEGIN:VEVENT
DTSTART;TZID=/ics.py/2020.1/Europe/Berlin:20221025T000000
DTEND;TZID=/ics.py/2020.1/Europe/Berlin:20221027T000000
SUMMARY:CERT@VDE: IT-SA EXPO & CONGRESS 2022
UID:82334804-1085-4090-976e-c8806a5c1092@8233.org
DESCRIPTION:Type: On location\n\n\nAs the HOME OF IT SECURITY\, IT-SA is 
 the exhibition home for everyone who is professionally dedicated to the 
 topic of IT security. From 25 to 27 October 2022\, international IT 
 security experts and decision-makers will once again meet at the 
 Exhibition Center Nuremberg to discuss challenges and trends in cyber 
 security. The trade fair sees itself as a network for industry-specific IT
  security solutions and a platform by experts for experts. With its 
 constantly updated security topics\, it is a trend barometer for the 
 entire IT security market.Further information on the event can be found 
 here.
LOCATION:Messe Nürnberg\, Messezentrum 1\, 90471 Nürnberg
DTSTAMP:20260423T134059Z
END:VEVENT
END:VCALENDAR