BEGIN:VCALENDAR
VERSION:2.0
PRODID:ics.py 0.8.0-dev0 - http://git.io/lLljaA
BEGIN:VTIMEZONE
TZID:/ics.py/2020.1/Europe/Berlin
BEGIN:DAYLIGHT
TZOFFSETFROM:+0100
TZOFFSETTO:+0200
DTSTART:19700329T020000
RRULE:FREQ=YEARLY;BYMONTH=3;BYDAY=-1SU
RDATE:19700329T020000
TZNAME:CEST
END:DAYLIGHT
BEGIN:STANDARD
TZOFFSETFROM:+0200
TZOFFSETTO:+0100
DTSTART:19701025T030000
RRULE:FREQ=YEARLY;BYMONTH=10;BYDAY=-1SU
RDATE:19701025T030000
TZNAME:CET
END:STANDARD
LAST-MODIFIED:20200620T153818Z
X-LIC-LOCATION:Europe/Berlin
END:VTIMEZONE
BEGIN:VEVENT
DTSTART;TZID=/ics.py/2020.1/Europe/Berlin:20211027T094500
DTEND;TZID=/ics.py/2020.1/Europe/Berlin:20211027T170000
SUMMARY:CERT@VDE: IT security in production - insights for management
UID:a438b827-8d0a-48a4-84b8-32eb6109f081@a438.org
DESCRIPTION:Type: On location\n\n\n"The IT security of machines and 
 production facilities is increasingly coming into focus\, for example due 
 to attacks on production facilities. It seems essential to develop 
 security strategies at an early stage to avoid a possible worst-case 
 scenario. This clearly shows that management and executives have a central
  role to play when it comes to making the company resistant to attacks on 
 IT and OT.For the development of such strategies\, practical knowledge and
  the exchange with experienced users is helpful in order to find the 
 individual way to protect one's own operational IT/OT infrastructure in 
 production. This knowledge can also help to build up a competitive 
 advantage\, stay up-to-date and reduce the complexity of a highly 
 sensitive topic for all stakeholders.At our joint event with the German IT
  Security Association (TeleTrusT)\, we will give participants the 
 opportunity to benefit from the knowledge of the speakers\, talk 
 exclusively to the proven experts and make contacts with other users. 
 Through practical examples and the consideration of the topic of 'IT 
 security in production' from different perspectives\, you as a manager and
  project manager will receive important impulses for implementation in 
 your company.In addition to the host Hermos AG\, the Deggendorf Institute 
 of Technology and the VDE\, speakers from the companies MB connect line 
 GmbH\, Secunet Security Networks AG\, Secuvera GmbH\, PrimeKey Labs GmbH 
 and Achtwerk GmbH &amp\; Co KG will also be represented." - SouceEvent 
 page und Registration
LOCATION:Hermos AG\, Gartenstraße 19\, 95490 Mistelgau
DTSTAMP:20260423T113926Z
END:VEVENT
END:VCALENDAR