BEGIN:VCALENDAR
VERSION:2.0
PRODID:ics.py 0.8.0-dev0 - http://git.io/lLljaA
BEGIN:VTIMEZONE
TZID:/ics.py/2020.1/Europe/Berlin
BEGIN:DAYLIGHT
TZOFFSETFROM:+0100
TZOFFSETTO:+0200
DTSTART:19700329T020000
RRULE:FREQ=YEARLY;BYMONTH=3;BYDAY=-1SU
RDATE:19700329T020000
TZNAME:CEST
END:DAYLIGHT
BEGIN:STANDARD
TZOFFSETFROM:+0200
TZOFFSETTO:+0100
DTSTART:19701025T030000
RRULE:FREQ=YEARLY;BYMONTH=10;BYDAY=-1SU
RDATE:19701025T030000
TZNAME:CET
END:STANDARD
LAST-MODIFIED:20200620T153818Z
X-LIC-LOCATION:Europe/Berlin
END:VTIMEZONE
BEGIN:VEVENT
DTSTART;TZID=/ics.py/2020.1/Europe/Berlin:20210305T100000
DTEND;TZID=/ics.py/2020.1/Europe/Berlin:20210305T110000
SUMMARY:CERT@VDE: Live interview: Sustainable industrial security through a
  proactive CERT?
UID:7cce3af5-dd92-4bac-a61d-9f96d8a46aab@7cce.org
DESCRIPTION:Type: On location\n\n\nThe growing threat situation requires 
 effective strategies for dealing with cyber attacks. How do small and 
 medium-sized companies with limited resources manage to meet the growing 
 requirements and secure their IT infrastructure in networked systems 
 accordingly?Andreas Harner from CERT@VDE talks to us on March 5\, 2021 
 about the added value that a cross-company CERT (Computer Emergency 
 Response Team) brings\, the hurdles that need to be overcome and how to 
 get started with practical first steps.Main topics:What is a CERT and how 
 does it work in industrial companies?Why CERT and secure industry?What 
 added value does a CERT (or is it just a cost center) provide for your own
  security level?What requirements and\, above all\, what hurdles are there
  for the introduction of a CERT?The first steps - Is there a lightweight 
 CERT approach? (TOP-3 Praxistipps)Registration 
LOCATION:
DTSTAMP:20260423T113915Z
END:VEVENT
END:VCALENDAR