BEGIN:VCALENDAR
VERSION:2.0
PRODID:ics.py 0.8.0-dev0 - http://git.io/lLljaA
BEGIN:VTIMEZONE
TZID:/ics.py/2020.1/Europe/Berlin
BEGIN:DAYLIGHT
TZOFFSETFROM:+0100
TZOFFSETTO:+0200
DTSTART:19700329T020000
RRULE:FREQ=YEARLY;BYMONTH=3;BYDAY=-1SU
RDATE:19700329T020000
TZNAME:CEST
END:DAYLIGHT
BEGIN:STANDARD
TZOFFSETFROM:+0200
TZOFFSETTO:+0100
DTSTART:19701025T030000
RRULE:FREQ=YEARLY;BYMONTH=10;BYDAY=-1SU
RDATE:19701025T030000
TZNAME:CET
END:STANDARD
LAST-MODIFIED:20200620T153818Z
X-LIC-LOCATION:Europe/Berlin
END:VTIMEZONE
BEGIN:VEVENT
DTSTART;TZID=/ics.py/2020.1/Europe/Berlin:20230510T000000
DTEND;TZID=/ics.py/2020.1/Europe/Berlin:20230511T000000
SUMMARY:CERT@VDE: Security under control
UID:ec13d2b0-1eed-476b-b2c7-ec2e4bdca385@ec13.org
DESCRIPTION:Type: On location\n\n\nSECURITY UNTER KONTROLLE is the new 
 dialog and practice-oriented congress for all those involved in security 
 in the industry. Security? Let's get it under control!You should take care
  of security for automation technology - if only you knew how exactly? 
 That is the aim of SECURITY UNTER KONTROLLE. To enable automation 
 specialists\, engineers and practitioners to take security into their own 
 hands.Call for Contributions!Your biggest problem\, your best idea or your
  most instructive story from OT security belong on our stage!Submit your 
 contribution here!
LOCATION:Areal Böhler\, Hansaallee 321\, 40549 Düsseldorf
DTSTAMP:20260423T133428Z
END:VEVENT
END:VCALENDAR