BEGIN:VCALENDAR
VERSION:2.0
PRODID:ics.py 0.8.0-dev0 - http://git.io/lLljaA
BEGIN:VTIMEZONE
TZID:/ics.py/2020.1/Europe/Berlin
BEGIN:DAYLIGHT
TZOFFSETFROM:+0100
TZOFFSETTO:+0200
DTSTART:19700329T020000
RRULE:FREQ=YEARLY;BYMONTH=3;BYDAY=-1SU
RDATE:19700329T020000
TZNAME:CEST
END:DAYLIGHT
BEGIN:STANDARD
TZOFFSETFROM:+0200
TZOFFSETTO:+0100
DTSTART:19701025T030000
RRULE:FREQ=YEARLY;BYMONTH=10;BYDAY=-1SU
RDATE:19701025T030000
TZNAME:CET
END:STANDARD
LAST-MODIFIED:20200620T153818Z
X-LIC-LOCATION:Europe/Berlin
END:VTIMEZONE
BEGIN:VEVENT
DTSTART;TZID=/ics.py/2020.1/Europe/Berlin:20230911T093000
DTEND;TZID=/ics.py/2020.1/Europe/Berlin:20230911T200000
SUMMARY:CERT@VDE: SWITCH CERT Autumn Event
UID:4d78628d-cab5-4716-a10c-b765f9b30c47@4d78.org
DESCRIPTION:Type: On location\n\n\nThe SWITCH-CERT Autumn Event is the 
 annual event for CERT customers from various industries. You can expect 
 exciting presentations and a unique opportunity to exchange ideas with 
 like-minded people.As we will also be giving a presentation\, we would be 
 delighted to meet you at the event.
LOCATION:Université de Fribourg\, Bd de Pérolles 90\, 1700 Fribourg
DTSTAMP:20260423T113440Z
END:VEVENT
END:VCALENDAR