BEGIN:VCALENDAR
VERSION:2.0
PRODID:ics.py 0.8.0-dev0 - http://git.io/lLljaA
BEGIN:VTIMEZONE
TZID:/ics.py/2020.1/Europe/Berlin
BEGIN:DAYLIGHT
TZOFFSETFROM:+0100
TZOFFSETTO:+0200
DTSTART:19700329T020000
RRULE:FREQ=YEARLY;BYMONTH=3;BYDAY=-1SU
RDATE:19700329T020000
TZNAME:CEST
END:DAYLIGHT
BEGIN:STANDARD
TZOFFSETFROM:+0200
TZOFFSETTO:+0100
DTSTART:19701025T030000
RRULE:FREQ=YEARLY;BYMONTH=10;BYDAY=-1SU
RDATE:19701025T030000
TZNAME:CET
END:STANDARD
LAST-MODIFIED:20200620T153818Z
X-LIC-LOCATION:Europe/Berlin
END:VTIMEZONE
BEGIN:VEVENT
DTSTART;TZID=/ics.py/2020.1/Europe/Berlin:20210907T093000
DTEND;TZID=/ics.py/2020.1/Europe/Berlin:20210907T123000
SUMMARY:CERT@VDE: Symposium on the digitalization of the world of work
UID:3b63e4b4-ddc7-4b3e-877f-397e69532e94@3b63.org
DESCRIPTION:Type: On location\n\n\nThe safety of production systems/people 
 is a key prerequisite for the success of the fourth industrial revolution 
 "Industry 4.0" and the ongoing digitalization of the world of work. The 
 conference explains the overarching legal requirements with expert 
 presentations on selected sub-topics.Depending on the situation\, we are 
 offering the event as a hybrid event (on-site and digital). You can select
  your preferred participation option in the online registration. If it is 
 not possible to hold the event on site due to the coronavirus infection 
 situation\, all registered participants can take part in the online event 
 without further registration.Further information about the event and 
 online registrationZiel der VeranstaltungThe safety of production 
 systems/people is a key prerequisite for the success of the fourth 
 industrial revolution "Industry 4.0" and the ongoing digitalization of the
  world of work. Numerous legal provisions and regulations are emerging and
  formulating requirements for the quality and operation of machines\, as 
 well as for work design itself. The conference will provide you with up-
 to-date information on the status of these regulations/rules and explain 
 the overarching legal requirements with specialist presentations on 
 selected sub-topics. In addition\, three forums will be offered to enable 
 in-depth discussions of the topics.The symposium is intended as a forum 
 for multi-layered discussions and exchange between speakers and the expert
  audience and makes a further contribution to the safe operation of 
 machines and systems in operational practice in the context of the 
 digitalization of the world of work.There will also be opportunities for 
 further specialist discussions between speakers and participants and for 
 networking during the breaks\, both on site and together on the virtual 
 platform.The conference is an advanced training event within the meaning 
 of Section 5 (3) of the Occupational Health and Safety Act. Two VDSI 
 points will be credited for the training certificate.Participation feesWe 
 charge a conference fee of €300 for participation in the symposium\, 
 including catering and the evening event. The participation fee for the 
 virtual event is €50.Trade exhibitionFor safety reasons\, the symposium 
 only provides the framework for a small accompanying trade exhibition.
LOCATION:DGUV Congress\, Tagungszentrum Haus 2\, Königsbrücker Landstraße 
 2\, 01109 Dresden
DTSTAMP:20260423T134223Z
END:VEVENT
END:VCALENDAR