BEGIN:VCALENDAR
VERSION:2.0
PRODID:ics.py 0.8.0-dev0 - http://git.io/lLljaA
BEGIN:VTIMEZONE
TZID:/ics.py/2020.1/Europe/Berlin
BEGIN:DAYLIGHT
TZOFFSETFROM:+0100
TZOFFSETTO:+0200
DTSTART:19700329T020000
RRULE:FREQ=YEARLY;BYMONTH=3;BYDAY=-1SU
RDATE:19700329T020000
TZNAME:CEST
END:DAYLIGHT
BEGIN:STANDARD
TZOFFSETFROM:+0200
TZOFFSETTO:+0100
DTSTART:19701025T030000
RRULE:FREQ=YEARLY;BYMONTH=10;BYDAY=-1SU
RDATE:19701025T030000
TZNAME:CET
END:STANDARD
LAST-MODIFIED:20200620T153818Z
X-LIC-LOCATION:Europe/Berlin
END:VTIMEZONE
BEGIN:VEVENT
DTSTART;TZID=/ics.py/2020.1/Europe/Berlin:20220504T000000
DTEND;TZID=/ics.py/2020.1/Europe/Berlin:20220506T000000
SUMMARY:CERT@VDE: User conference 2022 MB Connect Line
UID:4818051a-6e11-4648-8d9e-978db5e71122@4818.org
DESCRIPTION:Type: On location\n\n\nAt the user conference\, you will be 
 presented with field reports\, specialist presentations and selected 
 application scenarios. You will also have the opportunity to contribute 
 your own objectives and associated challenges for discussion. CERT@VDE 
 will also be represented at this event.
LOCATION:Tagungshotel Rössle\, Ortsstraße 22\, 74597 Stimpfach-Rechenberg
DTSTAMP:20260423T113808Z
END:VEVENT
END:VCALENDAR