BEGIN:VCALENDAR
VERSION:2.0
PRODID:ics.py 0.8.0-dev0 - http://git.io/lLljaA
BEGIN:VTIMEZONE
TZID:/ics.py/2020.1/Europe/Berlin
BEGIN:DAYLIGHT
TZOFFSETFROM:+0100
TZOFFSETTO:+0200
DTSTART:19700329T020000
RRULE:FREQ=YEARLY;BYMONTH=3;BYDAY=-1SU
RDATE:19700329T020000
TZNAME:CEST
END:DAYLIGHT
BEGIN:STANDARD
TZOFFSETFROM:+0200
TZOFFSETTO:+0100
DTSTART:19701025T030000
RRULE:FREQ=YEARLY;BYMONTH=10;BYDAY=-1SU
RDATE:19701025T030000
TZNAME:CET
END:STANDARD
LAST-MODIFIED:20200620T153818Z
X-LIC-LOCATION:Europe/Berlin
END:VTIMEZONE
BEGIN:VEVENT
DTSTART;TZID=/ics.py/2020.1/Europe/Berlin:20230629T173000
DTEND;TZID=/ics.py/2020.1/Europe/Berlin:20230629T210000
SUMMARY:CERT@VDE: VDE Bavaria Cyber Security Sundowner 2023
UID:8be7e283-4955-4cca-9979-ff20bbf3e779@8be7.org
DESCRIPTION:Type: On location\n\n\nCan you protect yourself and your 
 organization from cyberattacks? Explore this question with us and find out
  at the VDE Bayern Cyber Security Sundowner on June 29\, 2023. Identify 
 the strengths and weaknesses of your system and network directly with 
 experts and stakeholders from the region. We are guests at the Stellwerk 
 18 digital start-up center in Rosenheim and look forward to the close 
 network of established companies\, business development\, chambers and 
 universities from all over Southeast Upper Bavaria and Tyrol.How can you 
 protect yourself and your organization more effectively against 
 cyberattacks?At the VDE Bayern Cyber Security Sundowner\, we want to take 
 a critical look at the topics of IT security\, data protection and 
 hacking. Together with our partners\, we form an ideal platform for 
 networking regional\, national and international companies and 
 organizations.Find out about the current cyber threat situation relating 
 to the human factor and how you can protect your organization from human-
 based attacks. After 2022\, the VDE Bayern Cyber Security Sundowner 2023 
 will once again bring together relevant players from politics\, business\,
  industry\, research and science for a professional exchange on the 
 increasingly important topic of cyber security.Participation is free of 
 charge\, but registrationis required by 23.06.2023 due to limited places!
LOCATION:Stellwerk 18\, Eduard-Rüber-Straße 7\, 83022 Rosenheim
DTSTAMP:20260423T114701Z
END:VEVENT
END:VCALENDAR