BEGIN:VCALENDAR
VERSION:2.0
PRODID:ics.py 0.8.0-dev0 - http://git.io/lLljaA
BEGIN:VTIMEZONE
TZID:/ics.py/2020.1/Europe/Berlin
BEGIN:DAYLIGHT
TZOFFSETFROM:+0100
TZOFFSETTO:+0200
DTSTART:19700329T020000
RRULE:FREQ=YEARLY;BYMONTH=3;BYDAY=-1SU
RDATE:19700329T020000
TZNAME:CEST
END:DAYLIGHT
BEGIN:STANDARD
TZOFFSETFROM:+0200
TZOFFSETTO:+0100
DTSTART:19701025T030000
RRULE:FREQ=YEARLY;BYMONTH=10;BYDAY=-1SU
RDATE:19701025T030000
TZNAME:CET
END:STANDARD
LAST-MODIFIED:20200620T153818Z
X-LIC-LOCATION:Europe/Berlin
END:VTIMEZONE
BEGIN:VEVENT
DTSTART;TZID=/ics.py/2020.1/Europe/Berlin:20210315T080000
DTEND;TZID=/ics.py/2020.1/Europe/Berlin:20210317T170000
SUMMARY:CERT@VDE: VDE DKE Conference Functional Safety 2021
UID:93d6e994-4547-4345-a99b-04be5c504658@93d6.org
DESCRIPTION:Type: On location\n\n\nSafety technology is cumbersome and 
 traditional - VDE Congress proves otherwiseThe third edition of the IEC 
 61508 series is eagerly awaited because there have been a number of 
 innovations since the second edition and the environment has changed: 
 After networking\, which continues to advance and continues to stir 
 minds\, the use of artificial intelligence technologies and the 
 application of blockchain will be discussed. Established development 
 methods are also being questioned. In addition to tangible questions about
  standardization\, these issues will also be discussed and possible 
 solutions presented:Agile methods and secure systems. A contradiction in 
 terms?Can functional safety management be secured by blockchain 
 technologies in the future?Recent experiences with hacker attacks call for
  even greater coordination of functional security with IT security.When 
 taking a holistic view of safety chains and estimating their probability 
 of failure\, mechanical elements repeatedly emerge as the most discussed 
 points. Opinions in the community on how to deal with this are still quite
  controversial.The inclusion of artificial intelligence in security 
 systems seems to be inevitable for the future\, but no one yet knows how 
 to provide proof of security.Functional safety 2021 - Program booklet 
LOCATION:
DTSTAMP:20260423T172622Z
END:VEVENT
END:VCALENDAR