BEGIN:VCALENDAR
VERSION:2.0
PRODID:ics.py 0.8.0-dev0 - http://git.io/lLljaA
BEGIN:VTIMEZONE
TZID:/ics.py/2020.1/Europe/Berlin
BEGIN:DAYLIGHT
TZOFFSETFROM:+0100
TZOFFSETTO:+0200
DTSTART:19700329T020000
RRULE:FREQ=YEARLY;BYMONTH=3;BYDAY=-1SU
RDATE:19700329T020000
TZNAME:CEST
END:DAYLIGHT
BEGIN:STANDARD
TZOFFSETFROM:+0200
TZOFFSETTO:+0100
DTSTART:19701025T030000
RRULE:FREQ=YEARLY;BYMONTH=10;BYDAY=-1SU
RDATE:19701025T030000
TZNAME:CET
END:STANDARD
LAST-MODIFIED:20200620T153818Z
X-LIC-LOCATION:Europe/Berlin
END:VTIMEZONE
BEGIN:VEVENT
DTSTART;TZID=/ics.py/2020.1/Europe/Berlin:20230612T080000
DTEND;TZID=/ics.py/2020.1/Europe/Berlin:20230613T170000
SUMMARY:CERT@VDE: VDE DKE Conference Industrial Security
UID:086b6ad4-4982-4a4d-9aed-8f92095f1de9@086b.org
DESCRIPTION:Type: On location\n\n\nIndustrial security is becoming 
 increasingly important for a successful industrial company - the VDE DKE 
 symposium shows how it works!The current crises in the world show it very 
 clearly: a networked and digitalized industry and infrastructure are 
 vulnerable to cyber attacks. One solution is the application of 
 international norms and standards. The IEC 62443 series of standards 
 describes security concepts and basic requirements for a holistic approach
  to industrial security. The series of standards has grown considerably in
  recent years and further documents are still being created to do justice 
 to the complex task. What is the current status? What else can be expected
  in the coming years? We would like to discuss these and other questions 
 about the series of standards and their application with you:The life 
 cycle of a system: Is it all down to the operator?What does a manufacturer
  have to do to develop a safe product?Have all requirements been met? 
 Conformity assessment and certificationWhat regulatory framework 
 conditions can be expected in the future?We would like to present these 
 topics to you\, discuss them with you and look forward to hearing your 
 opinion.We also offer various deep dives on June 12.We look forward to 
 your participation!
LOCATION:Manufaktur Mannheimer Genusswerk\, Industriestraße 35\, 68169 
 Mannheim
DTSTAMP:20260423T113620Z
END:VEVENT
END:VCALENDAR